BEGIN:VCALENDAR
VERSION:2.0
PRODID:-//Gering Library - ECPv6.15.18//NONSGML v1.0//EN
CALSCALE:GREGORIAN
METHOD:PUBLISH
X-WR-CALNAME:Gering Library
X-ORIGINAL-URL:https://geringlibrary.org
X-WR-CALDESC:Events for Gering Library
REFRESH-INTERVAL;VALUE=DURATION:PT1H
X-Robots-Tag:noindex
X-PUBLISHED-TTL:PT1H
BEGIN:VTIMEZONE
TZID:America/Denver
BEGIN:DAYLIGHT
TZOFFSETFROM:-0700
TZOFFSETTO:-0600
TZNAME:MDT
DTSTART:20240310T090000
END:DAYLIGHT
BEGIN:STANDARD
TZOFFSETFROM:-0600
TZOFFSETTO:-0700
TZNAME:MST
DTSTART:20241103T080000
END:STANDARD
BEGIN:DAYLIGHT
TZOFFSETFROM:-0700
TZOFFSETTO:-0600
TZNAME:MDT
DTSTART:20250309T090000
END:DAYLIGHT
BEGIN:STANDARD
TZOFFSETFROM:-0600
TZOFFSETTO:-0700
TZNAME:MST
DTSTART:20251102T080000
END:STANDARD
BEGIN:DAYLIGHT
TZOFFSETFROM:-0700
TZOFFSETTO:-0600
TZNAME:MDT
DTSTART:20260308T090000
END:DAYLIGHT
BEGIN:STANDARD
TZOFFSETFROM:-0600
TZOFFSETTO:-0700
TZNAME:MST
DTSTART:20261101T080000
END:STANDARD
END:VTIMEZONE
BEGIN:VEVENT
DTSTART;TZID=America/Denver:20251010T120000
DTEND;TZID=America/Denver:20251010T140000
DTSTAMP:20260421T060954
CREATED:20250929T041439Z
LAST-MODIFIED:20250929T041439Z
UID:2122-1760097600-1760104800@geringlibrary.org
SUMMARY:"Steve Stole My Snacks" Teen Movie Party
DESCRIPTION:Teens are invited to come to the library for a movie party on Friday\, October 10th from Noon-2pm. Gering schools are closed for the day and we want to celebrate with food\, fellowship\, and a movie. This event is open to any 6th through 12th graders.
URL:https://geringlibrary.org/event/steve-stole-my-snacks-teen-movie-party/
CATEGORIES:Teen
ATTACH;FMTTYPE=image/png:https://geringlibrary.org/wp-content/uploads/2025/09/STEVE-STOLE-MY-SNACKS-4-x-3-in.png
END:VEVENT
BEGIN:VEVENT
DTSTART;TZID=America/Denver:20251029T150000
DTEND;TZID=America/Denver:20251029T160000
DTSTAMP:20260421T060954
CREATED:20250929T033701Z
LAST-MODIFIED:20250929T033701Z
UID:2112-1761750000-1761753600@geringlibrary.org
SUMMARY:"Witch's Lost Hat" Escape Room
DESCRIPTION:The witch has lost her hat and needs your help finding it. Join us for this exciting Halloween Escape Room. We will open it up for our after school kids on Wed.\, Oct. 29th at 3pm. It will be open for everyone else on Thurs\, Oct 30th from 4-8pm and Sat\, Nov. 1st from 12-4pm. \n**Please sign up at the front desk.**
URL:https://geringlibrary.org/event/witchs-lost-hat-escape-room/
CATEGORIES:Teen,Youth Services
ATTACH;FMTTYPE=image/png:https://geringlibrary.org/wp-content/uploads/2025/09/Halloween-Escape-Room-4-x-3-in.png
END:VEVENT
END:VCALENDAR