BEGIN:VCALENDAR
VERSION:2.0
PRODID:-//Gering Library - ECPv6.15.20//NONSGML v1.0//EN
CALSCALE:GREGORIAN
METHOD:PUBLISH
X-WR-CALNAME:Gering Library
X-ORIGINAL-URL:https://geringlibrary.org
X-WR-CALDESC:Events for Gering Library
REFRESH-INTERVAL;VALUE=DURATION:PT1H
X-Robots-Tag:noindex
X-PUBLISHED-TTL:PT1H
BEGIN:VTIMEZONE
TZID:America/Denver
BEGIN:DAYLIGHT
TZOFFSETFROM:-0700
TZOFFSETTO:-0600
TZNAME:MDT
DTSTART:20250309T090000
END:DAYLIGHT
BEGIN:STANDARD
TZOFFSETFROM:-0600
TZOFFSETTO:-0700
TZNAME:MST
DTSTART:20251102T080000
END:STANDARD
BEGIN:DAYLIGHT
TZOFFSETFROM:-0700
TZOFFSETTO:-0600
TZNAME:MDT
DTSTART:20260308T090000
END:DAYLIGHT
BEGIN:STANDARD
TZOFFSETFROM:-0600
TZOFFSETTO:-0700
TZNAME:MST
DTSTART:20261101T080000
END:STANDARD
BEGIN:DAYLIGHT
TZOFFSETFROM:-0700
TZOFFSETTO:-0600
TZNAME:MDT
DTSTART:20270314T090000
END:DAYLIGHT
BEGIN:STANDARD
TZOFFSETFROM:-0600
TZOFFSETTO:-0700
TZNAME:MST
DTSTART:20271107T080000
END:STANDARD
END:VTIMEZONE
BEGIN:VEVENT
DTSTART;TZID=America/Denver:20260424T100000
DTEND;TZID=America/Denver:20260424T170000
DTSTAMP:20260424T013109
CREATED:20260330T020050Z
LAST-MODIFIED:20260330T020050Z
UID:2939-1777024800-1777050000@geringlibrary.org
SUMMARY:Friends of the Library's Annual Book Sale
DESCRIPTION:Come to the Friends of the Library’s Annual Book Sale for great deals on used books! \n\nBook Sale Hours: \nThursday\, April 23rd from 9am to 7pm \nFriday\, April 24th from 10am to 5pm \nSaturday\, April 26th from 10am to 5pm
URL:https://geringlibrary.org/event/friends-of-the-librarys-annual-book-sale-2/
CATEGORIES:Family Programs
ATTACH;FMTTYPE=image/png:https://geringlibrary.org/wp-content/uploads/2026/03/Friends-Book-Sale-2026.png
END:VEVENT
END:VCALENDAR