BEGIN:VCALENDAR
VERSION:2.0
PRODID:-//Gering Library - ECPv6.15.18//NONSGML v1.0//EN
CALSCALE:GREGORIAN
METHOD:PUBLISH
X-ORIGINAL-URL:https://geringlibrary.org
X-WR-CALDESC:Events for Gering Library
REFRESH-INTERVAL;VALUE=DURATION:PT1H
X-Robots-Tag:noindex
X-PUBLISHED-TTL:PT1H
BEGIN:VTIMEZONE
TZID:America/Denver
BEGIN:DAYLIGHT
TZOFFSETFROM:-0700
TZOFFSETTO:-0600
TZNAME:MDT
DTSTART:20240310T090000
END:DAYLIGHT
BEGIN:STANDARD
TZOFFSETFROM:-0600
TZOFFSETTO:-0700
TZNAME:MST
DTSTART:20241103T080000
END:STANDARD
BEGIN:DAYLIGHT
TZOFFSETFROM:-0700
TZOFFSETTO:-0600
TZNAME:MDT
DTSTART:20250309T090000
END:DAYLIGHT
BEGIN:STANDARD
TZOFFSETFROM:-0600
TZOFFSETTO:-0700
TZNAME:MST
DTSTART:20251102T080000
END:STANDARD
BEGIN:DAYLIGHT
TZOFFSETFROM:-0700
TZOFFSETTO:-0600
TZNAME:MDT
DTSTART:20260308T090000
END:DAYLIGHT
BEGIN:STANDARD
TZOFFSETFROM:-0600
TZOFFSETTO:-0700
TZNAME:MST
DTSTART:20261101T080000
END:STANDARD
END:VTIMEZONE
BEGIN:VEVENT
DTSTART;TZID=America/Denver:20251015T100000
DTEND;TZID=America/Denver:20251015T103000
DTSTAMP:20260421T121953
CREATED:20250928T172429Z
LAST-MODIFIED:20250928T172441Z
UID:2038-1760522400-1760524200@geringlibrary.org
SUMMARY:Story Time
DESCRIPTION:Story time can help children build their vocabulary\, speaking and storytelling skills\, letter knowledge\, and love of books. \n\n\n\nStory time includes… \n\n\n\n\nbooks\n\n\n\nsongs & rhymes\n\n\n\nfinger plays & felt boards\n\n\n\n\nStick around after the stories for… \n\n\n\n\nsocial playtime\n\n\n\nhands-on activities\neducational toys
URL:https://geringlibrary.org/event/story-time-7/
CATEGORIES:Pre-K,Youth Services
ATTACH;FMTTYPE=image/png:https://geringlibrary.org/wp-content/uploads/2025/09/Youth-Services-Story-Play-Time.png
END:VEVENT
BEGIN:VEVENT
DTSTART;TZID=America/Denver:20251015T130000
DTEND;TZID=America/Denver:20251015T140000
DTSTAMP:20260421T121953
CREATED:20250928T173430Z
LAST-MODIFIED:20250928T173430Z
UID:2052-1760533200-1760536800@geringlibrary.org
SUMMARY:Tai Chi for Health
DESCRIPTION:Ashley Fenning is teaching Tai Chi on Wednesdays from 1-2pm starting on September 3 through December 17. \n*Participants should attend 11 out of 16 weeks to complete the program.* \nThere is a one-time $20 fee\, which will go toward Ashley’s training costs. \nCLASS IS FULL
URL:https://geringlibrary.org/event/tai-chi-for-health-6/
CATEGORIES:Adult Programs
ATTACH;FMTTYPE=image/png:https://geringlibrary.org/wp-content/uploads/2025/09/Adult-Programs-Tai-Chi-for-Health.png
END:VEVENT
BEGIN:VEVENT
DTSTART;TZID=America/Denver:20251015T150000
DTEND;TZID=America/Denver:20251015T160000
DTSTAMP:20260421T121953
CREATED:20250928T173919Z
LAST-MODIFIED:20250928T173919Z
UID:2060-1760540400-1760544000@geringlibrary.org
SUMMARY:Builders Club
DESCRIPTION:Builders Club (previously LEGO Club) is designed for *kids 8+ to build and experiment with LEGO bricks and more. Each month we will have different building challenges and structured STEM activities. \n*Kids under age 8 are welcome as long as they are accompanied by a parent.
URL:https://geringlibrary.org/event/builders-club-3/
CATEGORIES:Elementary,Teen,Youth Services
ATTACH;FMTTYPE=image/png:https://geringlibrary.org/wp-content/uploads/2025/09/Youth-Services-Builders-Club.png
END:VEVENT
BEGIN:VEVENT
DTSTART;TZID=America/Denver:20251015T183000
DTEND;TZID=America/Denver:20251015T193000
DTSTAMP:20260421T121953
CREATED:20250929T031214Z
LAST-MODIFIED:20250929T031214Z
UID:2105-1760553000-1760556600@geringlibrary.org
SUMMARY:Inner Journey Book Club
DESCRIPTION:Ancient wisdom for modern living-Join us on the first and third Wednesdays of the month to discuss “The Yamas and Niyamas: exploring yoga’s ethical pratice” by Deborah Adelle. \nReserve your spot at www.theyogacollective.com
URL:https://geringlibrary.org/event/inner-journey-book-club-3/
CATEGORIES:Adult Programs
ATTACH;FMTTYPE=image/png:https://geringlibrary.org/wp-content/uploads/2025/09/Inner-Journey-Book-Club-e1757365920495.png
END:VEVENT
END:VCALENDAR